BEGIN:VCALENDAR
VERSION:2.0
PRODID:-//AAFE - American Academy of Facial Esthetics - ECPv6.15.20//NONSGML v1.0//EN
CALSCALE:GREGORIAN
METHOD:PUBLISH
X-WR-CALNAME:AAFE - American Academy of Facial Esthetics
X-ORIGINAL-URL:https://facialesthetics.org
X-WR-CALDESC:Events for AAFE - American Academy of Facial Esthetics
REFRESH-INTERVAL;VALUE=DURATION:PT1H
X-Robots-Tag:noindex
X-PUBLISHED-TTL:PT1H
BEGIN:VTIMEZONE
TZID:America/New_York
BEGIN:DAYLIGHT
TZOFFSETFROM:-0500
TZOFFSETTO:-0400
TZNAME:EDT
DTSTART:20250309T070000
END:DAYLIGHT
BEGIN:STANDARD
TZOFFSETFROM:-0400
TZOFFSETTO:-0500
TZNAME:EST
DTSTART:20251102T060000
END:STANDARD
BEGIN:DAYLIGHT
TZOFFSETFROM:-0500
TZOFFSETTO:-0400
TZNAME:EDT
DTSTART:20260308T070000
END:DAYLIGHT
BEGIN:STANDARD
TZOFFSETFROM:-0400
TZOFFSETTO:-0500
TZNAME:EST
DTSTART:20261101T060000
END:STANDARD
BEGIN:DAYLIGHT
TZOFFSETFROM:-0500
TZOFFSETTO:-0400
TZNAME:EDT
DTSTART:20270314T070000
END:DAYLIGHT
BEGIN:STANDARD
TZOFFSETFROM:-0400
TZOFFSETTO:-0500
TZNAME:EST
DTSTART:20271107T060000
END:STANDARD
END:VTIMEZONE
BEGIN:VEVENT
DTSTART;TZID=America/New_York:20260611T073000
DTEND;TZID=America/New_York:20260612T170000
DTSTAMP:20260423T070307
CREATED:20251121T185507Z
LAST-MODIFIED:20260117T204645Z
UID:10002498-1781163000-1781283600@facialesthetics.org
SUMMARY:Dallas\, TX - Jun. 11-12 - Botulinum Toxin Level I\, Botulinum Toxin Level II\, Dermal Fillers Level I\, Frontline TMJ / Orofacial Pain Trigger Point Therapy
DESCRIPTION:
URL:https://facialesthetics.org/event/dallas-tx-jun-11-12-botulinum-toxin-level-i-botulinum-toxin-level-ii-dermal-fillers-level-i-frontline-tmj-orofacial-pain-trigger-point-therapy/
LOCATION:AAFE Training Center Dallas\, Lyndon B Johnson Freeway\, Dallas\, TX\, 75230\, United States
CATEGORIES:Botulinum Toxin & Dermal Fillers Level I,Botulinum Toxin & Dermal Fillers Level II,Core 4,Core 4 Botox II,Frontline TMJ & Facial Pain Therapy Level I Course
ATTACH;FMTTYPE=image/jpeg:https://facialesthetics.org/wp-content/uploads/2021/11/Dallas_TX.jpg
GEO:32.9250324;-96.8087652
X-APPLE-STRUCTURED-LOCATION;VALUE=URI;X-ADDRESS=AAFE Training Center Dallas Lyndon B Johnson Freeway Dallas TX 75230 United States;X-APPLE-RADIUS=500;X-TITLE=Lyndon B Johnson Freeway:geo:-96.8087652,32.9250324
END:VEVENT
BEGIN:VEVENT
DTSTART;TZID=America/New_York:20260611T073000
DTEND;TZID=America/New_York:20260612T170000
DTSTAMP:20260423T070307
CREATED:20251121T185845Z
LAST-MODIFIED:20260117T204613Z
UID:10002499-1781163000-1781283600@facialesthetics.org
SUMMARY:Nashville\, TN - Jun. 11-12 - Botulinum Toxin Level I\, Botulinum Toxin Level II\, Dermal Fillers Level I\, Frontline TMJ / Orofacial Pain Trigger Point Therapy
DESCRIPTION:
URL:https://facialesthetics.org/event/nashville-tn-jun-11-12-botulinum-toxin-level-i-botulinum-toxin-level-ii-dermal-fillers-level-i-frontline-tmj-orofacial-pain-trigger-point-therapy/
LOCATION:AAFE Training Center Nashville\, Jamestown Park Road\, Nashville\, TN\, 37027\, United States
CATEGORIES:Botulinum Toxin & Dermal Fillers Level I,Botulinum Toxin & Dermal Fillers Level II,Core 4,Core 4 Botox II,Frontline TMJ & Facial Pain Therapy Level I Course
ATTACH;FMTTYPE=image/jpeg:https://facialesthetics.org/wp-content/uploads/2021/11/Nashville_TN.jpg
GEO:36.0334086;-86.8116391
X-APPLE-STRUCTURED-LOCATION;VALUE=URI;X-ADDRESS=AAFE Training Center Nashville Jamestown Park Road Nashville TN 37027 United States;X-APPLE-RADIUS=500;X-TITLE=Jamestown Park Road:geo:-86.8116391,36.0334086
END:VEVENT
BEGIN:VEVENT
DTSTART;TZID=America/New_York:20260611T073000
DTEND;TZID=America/New_York:20260612T170000
DTSTAMP:20260423T070307
CREATED:20251121T191636Z
LAST-MODIFIED:20260117T203701Z
UID:10002501-1781163000-1781283600@facialesthetics.org
SUMMARY:Richmond\, VA - Jun. 11-12 - Botulinum Toxin Level I\, Botulinum Toxin Level II\, Dermal Fillers Level I\, Frontline TMJ / Orofacial Pain Trigger Point Therapy
DESCRIPTION:
URL:https://facialesthetics.org/event/richmond-va-jun-11-12-botulinum-toxin-level-i-botulinum-toxin-level-ii-dermal-fillers-level-i-frontline-tmj-orofacial-pain-trigger-point-therapy/
LOCATION:TBA Richmond\, TBA\, Richmond\, VA\, United States
CATEGORIES:Botulinum Toxin & Dermal Fillers Level I,Botulinum Toxin & Dermal Fillers Level II,Core 4,Core 4 Botox II,Frontline TMJ & Facial Pain Therapy Level I Course
ATTACH;FMTTYPE=image/jpeg:https://facialesthetics.org/wp-content/uploads/2023/02/richmond_VA.jpg
GEO:37.5407246;-77.4360481
X-APPLE-STRUCTURED-LOCATION;VALUE=URI;X-ADDRESS=TBA Richmond TBA Richmond VA United States;X-APPLE-RADIUS=500;X-TITLE=TBA:geo:-77.4360481,37.5407246
END:VEVENT
BEGIN:VEVENT
DTSTART;TZID=America/New_York:20260611T073000
DTEND;TZID=America/New_York:20260612T170000
DTSTAMP:20260423T070307
CREATED:20251121T193919Z
LAST-MODIFIED:20260422T115353Z
UID:10002502-1781163000-1781283600@facialesthetics.org
SUMMARY:Scottsdale\, AZ - Jun. 11-12 - Botulinum Toxin Level I\, Dermal Fillers Level I\, Frontline TMJ / Orofacial Pain Trigger Point Therapy\, Gum Builder and Black Triangle Live Patient Training Certification Course
DESCRIPTION:
URL:https://facialesthetics.org/event/scottsdale-az-jun-11-12-botulinum-toxin-level-i-dermal-fillers-level-i-frontline-tmj-orofacial-pain-trigger-point-therapy-gum-builder-and-black-triangle-live-patient-training-certification/
LOCATION:AAFE Training Center Scottsdale\, North Northsight Boulevard\, Scottsdale\, AZ\, 85260\, United States
CATEGORIES:AAFE Core 4 Gum Builder,Botulinum Toxin & Dermal Fillers Level I,Core 4,Frontline TMJ & Facial Pain Therapy Level I Course,Ultimate Gum Course
ATTACH;FMTTYPE=image/jpeg:https://facialesthetics.org/wp-content/uploads/2021/11/CasaGrande_AZ.jpg
GEO:33.6171222;-111.8984059
X-APPLE-STRUCTURED-LOCATION;VALUE=URI;X-ADDRESS=AAFE Training Center Scottsdale North Northsight Boulevard Scottsdale AZ 85260 United States;X-APPLE-RADIUS=500;X-TITLE=North Northsight Boulevard:geo:-111.8984059,33.6171222
END:VEVENT
BEGIN:VEVENT
DTSTART;TZID=America/New_York:20260611T073000
DTEND;TZID=America/New_York:20260612T170000
DTSTAMP:20260423T070307
CREATED:20251121T194201Z
LAST-MODIFIED:20260117T203616Z
UID:10002503-1781163000-1781283600@facialesthetics.org
SUMMARY:Seattle\, WA - Jun. 11-12 - Botulinum Toxin Level I\, Botulinum Toxin Level II\, Dermal Fillers Level I\, Frontline TMJ / Orofacial Pain Trigger Point Therapy
DESCRIPTION:
URL:https://facialesthetics.org/event/seattle-wa-jun-11-12-botulinum-toxin-level-i-botulinum-toxin-level-ii-dermal-fillers-level-i-frontline-tmj-orofacial-pain-trigger-point-therapy/
LOCATION:TBA Seattle\, TBA\, Seattle\, WA\, United States
CATEGORIES:Botulinum Toxin & Dermal Fillers Level I,Botulinum Toxin & Dermal Fillers Level II,Core 4,Core 4 Botox II,Frontline TMJ & Facial Pain Therapy Level I Course
ATTACH;FMTTYPE=image/jpeg:https://facialesthetics.org/wp-content/uploads/2021/11/Seattle_WA.jpg
GEO:47.6061389;-122.3328481
X-APPLE-STRUCTURED-LOCATION;VALUE=URI;X-ADDRESS=TBA Seattle TBA Seattle WA United States;X-APPLE-RADIUS=500;X-TITLE=TBA:geo:-122.3328481,47.6061389
END:VEVENT
BEGIN:VEVENT
DTSTART;TZID=America/New_York:20260611T073000
DTEND;TZID=America/New_York:20260612T170000
DTSTAMP:20260423T070307
CREATED:20260420T152018Z
LAST-MODIFIED:20260422T115435Z
UID:10002719-1781163000-1781283600@facialesthetics.org
SUMMARY:Scottsdale\, AZ - Jun. 11-12 - Botulinum Toxin Level I\, Dermal Fillers Level I\, Frontline TMJ / Orofacial Pain Trigger Point Therapy\, Gum Builder and Black Triangle Live Patient Training Certification Course
DESCRIPTION:
URL:https://facialesthetics.org/event/scottsdale-az-jun-11-12-botulinum-toxin-level-i-dermal-fillers-level-i-frontline-tmj-orofacial-pain-trigger-point-therapy-gum-builder-and-black-triangle-live-patient-training-certification-2/
LOCATION:AAFE Training Center Scottsdale\, North Northsight Boulevard\, Scottsdale\, AZ\, 85260\, United States
CATEGORIES:AAFE Core 4 Gum Builder,Botulinum Toxin & Dermal Fillers Level I,Core 4,Frontline TMJ & Facial Pain Therapy Level I Course,Ultimate Gum Course
ATTACH;FMTTYPE=image/jpeg:https://facialesthetics.org/wp-content/uploads/2021/11/CasaGrande_AZ.jpg
GEO:33.6171222;-111.8984059
X-APPLE-STRUCTURED-LOCATION;VALUE=URI;X-ADDRESS=AAFE Training Center Scottsdale North Northsight Boulevard Scottsdale AZ 85260 United States;X-APPLE-RADIUS=500;X-TITLE=North Northsight Boulevard:geo:-111.8984059,33.6171222
END:VEVENT
BEGIN:VEVENT
DTSTART;TZID=America/New_York:20260612T073000
DTEND;TZID=America/New_York:20260613T120000
DTSTAMP:20260423T070307
CREATED:20251121T194724Z
LAST-MODIFIED:20260415T184613Z
UID:10002504-1781249400-1781352000@facialesthetics.org
SUMMARY:Charlotte\, NC - Jun. 12-13 - Botulinum Toxin Level I\, Dermal Fillers Level I\, Frontline TMJ / Orofacial Pain Trigger Point Therapy
DESCRIPTION:
URL:https://facialesthetics.org/event/charlotte-nc-jun-12-13-botulinum-toxin-level-i-dermal-fillers-level-i-frontline-tmj-orofacial-pain-trigger-point-therapy/
LOCATION:TBA Charlotte\, TBA\, Charlotte\, NC\, United States
CATEGORIES:Botulinum Toxin & Dermal Fillers Level I,Frontline TMJ & Facial Pain Therapy Level I Course
ATTACH;FMTTYPE=image/jpeg:https://facialesthetics.org/wp-content/uploads/2022/08/CharlotteNC.jpg
GEO:35.2270869;-80.8431267
X-APPLE-STRUCTURED-LOCATION;VALUE=URI;X-ADDRESS=TBA Charlotte TBA Charlotte NC United States;X-APPLE-RADIUS=500;X-TITLE=TBA:geo:-80.8431267,35.2270869
END:VEVENT
BEGIN:VEVENT
DTSTART;TZID=America/New_York:20260612T073000
DTEND;TZID=America/New_York:20260613T170000
DTSTAMP:20260423T070307
CREATED:20260319T171756Z
LAST-MODIFIED:20260413T160708Z
UID:10002720-1781249400-1781370000@facialesthetics.org
SUMMARY:Chicago\, IL (ADA) - Jun. 12-13 - Botulinum Toxin Level I\, Dermal Fillers Level I\, Frontline TMJ / Orofacial Pain Trigger Point Therapy\, Gum Builder and Black Triangle Live Patient Training Certification Course
DESCRIPTION:
URL:https://facialesthetics.org/event/chicago-il-ada-jun-11-12-botulinum-toxin-level-i-dermal-fillers-level-i-frontline-tmj-orofacial-pain-trigger-point-therapy-gum-builder-and-black-triangle-live-patient-training-certificati/
LOCATION:Chicago ADA\, 401 N. Michigan Avenue\, Chicago\, IL\, 60611\, United States
CATEGORIES:AAFE Core 4 Gum Builder,Botulinum Toxin & Dermal Fillers Level I,Core 4,Frontline TMJ & Facial Pain Therapy Level I Course,Ultimate Gum Course
ATTACH;FMTTYPE=image/jpeg:https://facialesthetics.org/wp-content/uploads/2021/11/Chicago_IL.jpg
GEO:41.8897125;-87.6234199
X-APPLE-STRUCTURED-LOCATION;VALUE=URI;X-ADDRESS=Chicago ADA 401 N. Michigan Avenue Chicago IL 60611 United States;X-APPLE-RADIUS=500;X-TITLE=401 N. Michigan Avenue:geo:-87.6234199,41.8897125
END:VEVENT
END:VCALENDAR