BEGIN:VCALENDAR
VERSION:2.0
PRODID:-//AAFE - American Academy of Facial Esthetics - ECPv6.15.20//NONSGML v1.0//EN
CALSCALE:GREGORIAN
METHOD:PUBLISH
X-WR-CALNAME:AAFE - American Academy of Facial Esthetics
X-ORIGINAL-URL:https://facialesthetics.org
X-WR-CALDESC:Events for AAFE - American Academy of Facial Esthetics
REFRESH-INTERVAL;VALUE=DURATION:PT1H
X-Robots-Tag:noindex
X-PUBLISHED-TTL:PT1H
BEGIN:VTIMEZONE
TZID:America/New_York
BEGIN:DAYLIGHT
TZOFFSETFROM:-0500
TZOFFSETTO:-0400
TZNAME:EDT
DTSTART:20250309T070000
END:DAYLIGHT
BEGIN:STANDARD
TZOFFSETFROM:-0400
TZOFFSETTO:-0500
TZNAME:EST
DTSTART:20251102T060000
END:STANDARD
BEGIN:DAYLIGHT
TZOFFSETFROM:-0500
TZOFFSETTO:-0400
TZNAME:EDT
DTSTART:20260308T070000
END:DAYLIGHT
BEGIN:STANDARD
TZOFFSETFROM:-0400
TZOFFSETTO:-0500
TZNAME:EST
DTSTART:20261101T060000
END:STANDARD
BEGIN:DAYLIGHT
TZOFFSETFROM:-0500
TZOFFSETTO:-0400
TZNAME:EDT
DTSTART:20270314T070000
END:DAYLIGHT
BEGIN:STANDARD
TZOFFSETFROM:-0400
TZOFFSETTO:-0500
TZNAME:EST
DTSTART:20271107T060000
END:STANDARD
END:VTIMEZONE
BEGIN:VEVENT
DTSTART;TZID=America/New_York:20260430T073000
DTEND;TZID=America/New_York:20260501T170000
DTSTAMP:20260423T074516
CREATED:20251120T193123Z
LAST-MODIFIED:20260403T163406Z
UID:10002447-1777534200-1777654800@facialesthetics.org
SUMMARY:Chicago\, IL - Apr. 30 - May 1 - Botulinum Toxin Level I\, Botulinum Toxin Level II\, Dermal Fillers Level I\, Frontline TMJ / Orofacial Pain Trigger Point Therapy
DESCRIPTION:
URL:https://facialesthetics.org/event/chicago-il-apr-30-may-1-botulinum-toxin-level-i-botulinum-toxin-level-ii-dermal-fillers-level-i-frontline-tmj-orofacial-pain-trigger-point-therapy/
LOCATION:AAFE Training Center Chicago\, Remington Road\, Chicago\, IL\, 60173\, United States
CATEGORIES:Botulinum Toxin & Dermal Fillers Level I,Botulinum Toxin & Dermal Fillers Level II,Core 4,Core 4 Botox II,Frontline TMJ & Facial Pain Therapy Level I Course
ATTACH;FMTTYPE=image/jpeg:https://facialesthetics.org/wp-content/uploads/2021/11/Chicago_IL.jpg
GEO:42.052442;-88.0481523
X-APPLE-STRUCTURED-LOCATION;VALUE=URI;X-ADDRESS=AAFE Training Center Chicago Remington Road Chicago IL 60173 United States;X-APPLE-RADIUS=500;X-TITLE=Remington Road:geo:-88.0481523,42.052442
END:VEVENT
END:VCALENDAR