BEGIN:VCALENDAR
VERSION:2.0
PRODID:-//AAFE - American Academy of Facial Esthetics - ECPv6.15.20//NONSGML v1.0//EN
CALSCALE:GREGORIAN
METHOD:PUBLISH
X-ORIGINAL-URL:https://facialesthetics.org
X-WR-CALDESC:Events for AAFE - American Academy of Facial Esthetics
REFRESH-INTERVAL;VALUE=DURATION:PT1H
X-Robots-Tag:noindex
X-PUBLISHED-TTL:PT1H
BEGIN:VTIMEZONE
TZID:America/New_York
BEGIN:DAYLIGHT
TZOFFSETFROM:-0500
TZOFFSETTO:-0400
TZNAME:EDT
DTSTART:20250309T070000
END:DAYLIGHT
BEGIN:STANDARD
TZOFFSETFROM:-0400
TZOFFSETTO:-0500
TZNAME:EST
DTSTART:20251102T060000
END:STANDARD
BEGIN:DAYLIGHT
TZOFFSETFROM:-0500
TZOFFSETTO:-0400
TZNAME:EDT
DTSTART:20260308T070000
END:DAYLIGHT
BEGIN:STANDARD
TZOFFSETFROM:-0400
TZOFFSETTO:-0500
TZNAME:EST
DTSTART:20261101T060000
END:STANDARD
BEGIN:DAYLIGHT
TZOFFSETFROM:-0500
TZOFFSETTO:-0400
TZNAME:EDT
DTSTART:20270314T070000
END:DAYLIGHT
BEGIN:STANDARD
TZOFFSETFROM:-0400
TZOFFSETTO:-0500
TZNAME:EST
DTSTART:20271107T060000
END:STANDARD
END:VTIMEZONE
BEGIN:VEVENT
DTSTART;TZID=America/New_York:20260205T073000
DTEND;TZID=America/New_York:20260206T170000
DTSTAMP:20260423T064956
CREATED:20250903T221120Z
LAST-MODIFIED:20260203T144944Z
UID:10002356-1770276600-1770397200@facialesthetics.org
SUMMARY:Las Vegas\, NV - Feb. 5-6 - Botulinum Toxin Level I\, Dermal Fillers Level I\, Frontline TMJ / Orofacial Pain Trigger Point Therapy\, Gum Builder and Black Triangle Live Patient Training Certification Course
DESCRIPTION:
URL:https://facialesthetics.org/event/las-vegas-nv-feb-5-6-botulinum-toxin-level-i-dermal-fillers-level-i-frontline-tmj-orofacial-pain-trigger-point-therapy-gum-builder-and-black-triangle-live-patient-training-certification-cou/
LOCATION:AAFE Training Center Las Vegas\, Convention Center Drive\, Las Vegas\, NV\, 89109\, United States
CATEGORIES:AAFE Core 4 Gum Builder,Botulinum Toxin & Dermal Fillers Level I,Core 4,Frontline TMJ & Facial Pain Therapy Level I Course,Ultimate Gum Course
ATTACH;FMTTYPE=image/jpeg:https://facialesthetics.org/wp-content/uploads/2021/11/LasVegas_NV.jpg
GEO:36.132036;-115.1613789
X-APPLE-STRUCTURED-LOCATION;VALUE=URI;X-ADDRESS=AAFE Training Center Las Vegas Convention Center Drive Las Vegas NV 89109 United States;X-APPLE-RADIUS=500;X-TITLE=Convention Center Drive:geo:-115.1613789,36.132036
END:VEVENT
END:VCALENDAR