BEGIN:VCALENDAR
VERSION:2.0
PRODID:-//AAFE - American Academy of Facial Esthetics - ECPv6.15.20//NONSGML v1.0//EN
CALSCALE:GREGORIAN
METHOD:PUBLISH
X-ORIGINAL-URL:https://facialesthetics.org
X-WR-CALDESC:Events for AAFE - American Academy of Facial Esthetics
REFRESH-INTERVAL;VALUE=DURATION:PT1H
X-Robots-Tag:noindex
X-PUBLISHED-TTL:PT1H
BEGIN:VTIMEZONE
TZID:America/New_York
BEGIN:DAYLIGHT
TZOFFSETFROM:-0500
TZOFFSETTO:-0400
TZNAME:EDT
DTSTART:20250309T070000
END:DAYLIGHT
BEGIN:STANDARD
TZOFFSETFROM:-0400
TZOFFSETTO:-0500
TZNAME:EST
DTSTART:20251102T060000
END:STANDARD
BEGIN:DAYLIGHT
TZOFFSETFROM:-0500
TZOFFSETTO:-0400
TZNAME:EDT
DTSTART:20260308T070000
END:DAYLIGHT
BEGIN:STANDARD
TZOFFSETFROM:-0400
TZOFFSETTO:-0500
TZNAME:EST
DTSTART:20261101T060000
END:STANDARD
BEGIN:DAYLIGHT
TZOFFSETFROM:-0500
TZOFFSETTO:-0400
TZNAME:EDT
DTSTART:20270314T070000
END:DAYLIGHT
BEGIN:STANDARD
TZOFFSETFROM:-0400
TZOFFSETTO:-0500
TZNAME:EST
DTSTART:20271107T060000
END:STANDARD
END:VTIMEZONE
BEGIN:VEVENT
DTSTART;TZID=America/New_York:20260827T073000
DTEND;TZID=America/New_York:20260828T140000
DTSTAMP:20260420T120126
CREATED:20260221T212829Z
LAST-MODIFIED:20260221T212829Z
UID:10002572-1787815800-1787925600@facialesthetics.org
SUMMARY:Dallas\, TX - Aug. 27-28 - Level II Botulinum Toxin & Dermal Fillers\, Solid Filler Lifting PDO Thread Lift Training Course
DESCRIPTION:
URL:https://facialesthetics.org/event/dallas-tx-aug-27-28-level-ii-botulinum-toxin-dermal-fillers-solid-filler-lifting-pdo-thread-lift-training-course/
LOCATION:AAFE Training Center Dallas\, Lyndon B Johnson Freeway\, Dallas\, TX\, 75230\, United States
CATEGORIES:Botulinum Toxin & Dermal Fillers Level II,Solid Filler Lifting PDO Thread Lift Training Course
ATTACH;FMTTYPE=image/jpeg:https://facialesthetics.org/wp-content/uploads/2021/11/Dallas_TX.jpg
GEO:32.9250324;-96.8087652
X-APPLE-STRUCTURED-LOCATION;VALUE=URI;X-ADDRESS=AAFE Training Center Dallas Lyndon B Johnson Freeway Dallas TX 75230 United States;X-APPLE-RADIUS=500;X-TITLE=Lyndon B Johnson Freeway:geo:-96.8087652,32.9250324
END:VEVENT
END:VCALENDAR