BEGIN:VCALENDAR
VERSION:2.0
PRODID:-//AAFE - American Academy of Facial Esthetics - ECPv6.15.20//NONSGML v1.0//EN
CALSCALE:GREGORIAN
METHOD:PUBLISH
X-WR-CALNAME:AAFE - American Academy of Facial Esthetics
X-ORIGINAL-URL:https://facialesthetics.org
X-WR-CALDESC:Events for AAFE - American Academy of Facial Esthetics
REFRESH-INTERVAL;VALUE=DURATION:PT1H
X-Robots-Tag:noindex
X-PUBLISHED-TTL:PT1H
BEGIN:VTIMEZONE
TZID:America/New_York
BEGIN:DAYLIGHT
TZOFFSETFROM:-0500
TZOFFSETTO:-0400
TZNAME:EDT
DTSTART:20250309T070000
END:DAYLIGHT
BEGIN:STANDARD
TZOFFSETFROM:-0400
TZOFFSETTO:-0500
TZNAME:EST
DTSTART:20251102T060000
END:STANDARD
BEGIN:DAYLIGHT
TZOFFSETFROM:-0500
TZOFFSETTO:-0400
TZNAME:EDT
DTSTART:20260308T070000
END:DAYLIGHT
BEGIN:STANDARD
TZOFFSETFROM:-0400
TZOFFSETTO:-0500
TZNAME:EST
DTSTART:20261101T060000
END:STANDARD
BEGIN:DAYLIGHT
TZOFFSETFROM:-0500
TZOFFSETTO:-0400
TZNAME:EDT
DTSTART:20270314T070000
END:DAYLIGHT
BEGIN:STANDARD
TZOFFSETFROM:-0400
TZOFFSETTO:-0500
TZNAME:EST
DTSTART:20271107T060000
END:STANDARD
END:VTIMEZONE
BEGIN:VEVENT
DTSTART;TZID=America/New_York:20260910T073000
DTEND;TZID=America/New_York:20260911T170000
DTSTAMP:20260420T170756
CREATED:20260223T225104Z
LAST-MODIFIED:20260223T225104Z
UID:10002582-1789025400-1789146000@facialesthetics.org
SUMMARY:Dallas\, TX - Sept. 10-11 - Botulinum Toxin Level I\, Botulinum Toxin Level II\, Dermal Fillers Level I\, Frontline TMJ / Orofacial Pain Trigger Point Therapy
DESCRIPTION:
URL:https://facialesthetics.org/event/dallas-tx-sept-10-11-botulinum-toxin-level-i-botulinum-toxin-level-ii-dermal-fillers-level-i-frontline-tmj-orofacial-pain-trigger-point-therapy/
LOCATION:AAFE Training Center Dallas\, Lyndon B Johnson Freeway\, Dallas\, TX\, 75230\, United States
CATEGORIES:Botulinum Toxin & Dermal Fillers Level I,Botulinum Toxin & Dermal Fillers Level II,Core 4,Core 4 Botox II,Frontline TMJ & Facial Pain Therapy Level I Course
ATTACH;FMTTYPE=image/jpeg:https://facialesthetics.org/wp-content/uploads/2021/11/Dallas_TX.jpg
GEO:32.9250324;-96.8087652
X-APPLE-STRUCTURED-LOCATION;VALUE=URI;X-ADDRESS=AAFE Training Center Dallas Lyndon B Johnson Freeway Dallas TX 75230 United States;X-APPLE-RADIUS=500;X-TITLE=Lyndon B Johnson Freeway:geo:-96.8087652,32.9250324
END:VEVENT
END:VCALENDAR